BEGIN:VCALENDAR
VERSION:2.0
PRODID:-//Two Facts and A Fib - ECPv6.15.20//NONSGML v1.0//EN
CALSCALE:GREGORIAN
METHOD:PUBLISH
X-WR-CALNAME:Two Facts and A Fib
X-ORIGINAL-URL:https://www.twofactsandafib.com
X-WR-CALDESC:Events for Two Facts and A Fib
REFRESH-INTERVAL;VALUE=DURATION:PT1H
X-Robots-Tag:noindex
X-PUBLISHED-TTL:PT1H
BEGIN:VTIMEZONE
TZID:UTC
BEGIN:STANDARD
TZOFFSETFROM:+0000
TZOFFSETTO:+0000
TZNAME:UTC
DTSTART:20150101T000000
END:STANDARD
END:VTIMEZONE
BEGIN:VEVENT
DTSTART;TZID=UTC:20170501T080000
DTEND;TZID=UTC:20170501T170000
DTSTAMP:20260420T083759
CREATED:20160810T200755Z
LAST-MODIFIED:20160922T215628Z
UID:269-1493625600-1493658000@www.twofactsandafib.com
SUMMARY:Orlando Science School
DESCRIPTION:
URL:https://www.twofactsandafib.com/event/orlando-science-school-2/
LOCATION:Orlando Science School\, 2427 Lynx Ln\, Orlando\, FL\, 32804\, United States
END:VEVENT
BEGIN:VEVENT
DTSTART;TZID=UTC:20161110T180000
DTEND;TZID=UTC:20161110T180000
DTSTAMP:20260420T083759
CREATED:20160810T200216Z
LAST-MODIFIED:20160922T220225Z
UID:267-1478800800-1478800800@www.twofactsandafib.com
SUMMARY:Rock Springs Elementary
DESCRIPTION:
URL:https://www.twofactsandafib.com/event/rock-springs-elementary/
LOCATION:Rock Springs Elementary\, 2400 Rock Springs Rd\, Apopka\, FL\, 32712\, United States
END:VEVENT
BEGIN:VEVENT
DTSTART;TZID=UTC:20161109T140000
DTEND;TZID=UTC:20161109T170000
DTSTAMP:20260420T083759
CREATED:20160922T220327Z
LAST-MODIFIED:20160922T220327Z
UID:315-1478700000-1478710800@www.twofactsandafib.com
SUMMARY:Kids R Kids Apopka
DESCRIPTION:
URL:https://www.twofactsandafib.com/event/kids-r-kids-apopka/
LOCATION:Kids R Kids Apopka\, 301 W Welch Rd\, Apopka\, FL\, 32712\, United States
END:VEVENT
BEGIN:VEVENT
DTSTART;TZID=UTC:20161027T110000
DTEND;TZID=UTC:20161027T170000
DTSTAMP:20260420T083759
CREATED:20160922T220153Z
LAST-MODIFIED:20160922T220153Z
UID:311-1477566000-1477587600@www.twofactsandafib.com
SUMMARY:Washington Shores Elementary
DESCRIPTION:
URL:https://www.twofactsandafib.com/event/washington-shores-elementary/
LOCATION:Washington Shores Elementary\, 944 W Lake Mann Dr\, Orlando\, FL\, 32805\, United States
END:VEVENT
BEGIN:VEVENT
DTSTART;TZID=UTC:20161027T110000
DTEND;TZID=UTC:20161027T170000
DTSTAMP:20260420T083759
CREATED:20160810T195736Z
LAST-MODIFIED:20160922T220209Z
UID:263-1477566000-1477587600@www.twofactsandafib.com
SUMMARY:Orlando Science School
DESCRIPTION:
URL:https://www.twofactsandafib.com/event/orlando-science-school/
LOCATION:Orlando Science School\, 2427 Lynx Ln\, Orlando\, FL\, 32804\, United States
END:VEVENT
BEGIN:VEVENT
DTSTART;TZID=UTC:20160922T100000
DTEND;TZID=UTC:20160922T170000
DTSTAMP:20260420T083759
CREATED:20160922T215544Z
LAST-MODIFIED:20160922T215544Z
UID:301-1474538400-1474563600@www.twofactsandafib.com
SUMMARY:Little Jan Learn & Play Daycare
DESCRIPTION:
URL:https://www.twofactsandafib.com/event/little-jan-learn-play-daycare/
LOCATION:Little Jan Learn & Play Daycare
END:VEVENT
END:VCALENDAR